BEGIN:VCALENDAR
PRODID:-//AT Content Types//AT Event//EN
VERSION:1.0
BEGIN:VEVENT
DTSTART:20160321T141500Z
DTEND:20160321T141500Z
DCREATED:20160304T142953Z
UID:ATEvent-4ae4512ab6da450b90c8325dcfb60e97
SEQUENCE:0
LAST-MODIFIED:20160725T152941Z
SUMMARY:iBEM - International Biomedical Engineering Meeting
DESCRIPTION:Primeira edição do International Biomedical Engineering 
 Meeting - iBEM realiza-se a 21 de março na Biblioteca Almeida Garrett
 .
LOCATION:Biblioteca Almeida Garrett
PRIORITY:3
TRANSP:0
END:VEVENT
END:VCALENDAR
