BEGIN:VCALENDAR
PRODID:-//AT Content Types//AT Event//EN
VERSION:1.0
BEGIN:VEVENT
DTSTART:20160921T203000Z
DTEND:20160921T220000Z
DCREATED:20160909T133709Z
UID:ATEvent-396bd10dbabd4e529f26718385038fc2
SEQUENCE:0
LAST-MODIFIED:20160909T133935Z
SUMMARY:(H)á conversa com Empreendedores no Tâmega e Sousa
DESCRIPTION:Participação livre e gratuita.
LOCATION:Tílias Lounge Bar
PRIORITY:3
TRANSP:0
END:VEVENT
END:VCALENDAR
