BEGIN:VCALENDAR
PRODID:-//AT Content Types//AT Event//EN
VERSION:1.0
BEGIN:VEVENT
DTSTART:20180620T093000Z
DTEND:20180620T143000Z
DCREATED:20180611T164917Z
UID:ATEvent-7eb0f7ffc0434e3c924284a300548243
SEQUENCE:0
LAST-MODIFIED:20180611T164935Z
SUMMARY:Workshop Gastronómico na ESHT
DESCRIPTION:No próximo dia 20 de junho\, a Escola Superior de Hotelar
 ia e Turismo recebe o chef Rui Rodrigues e o chef Eduardo Rodrigues
LOCATION:Escola Superior de Hotelaria e Turismo
PRIORITY:3
TRANSP:0
END:VEVENT
END:VCALENDAR
