BEGIN:VCALENDAR
PRODID:-//AT Content Types//AT Event//EN
VERSION:2.0
METHOD:PUBLISH
BEGIN:VEVENT
DTSTAMP:20260421T190317Z
CREATED:20180628T181631Z
UID:ATEvent-ba66d59f6e674eac9511ab05a9eb3e3c
LAST-MODIFIED:20180903T114446Z
SUMMARY:Exposição dos estudantes finalistas da ESMAD
DTSTART:20180713T130000Z
DTEND:20180921T170000Z
DESCRIPTION:O Mosteiro de Santa Clara\, em Vila do Conde\, acolhe a ex
 posição de trabalhos dos finalistas da escola de Media e Design do P
 .PORTO
LOCATION:Mosteiro de Santa Clara
CLASS:PUBLIC
END:VEVENT
END:VCALENDAR
