BEGIN:VCALENDAR
PRODID:-//AT Content Types//AT Event//EN
VERSION:2.0
METHOD:PUBLISH
BEGIN:VEVENT
DTSTAMP:20260425T140424Z
CREATED:20190107T113425Z
UID:ATEvent-9fee61cc70844889a1986641d91c460a
LAST-MODIFIED:20190107T114155Z
SUMMARY:Plug-In
DTSTART:20190116T150000Z
DTEND:20190116T170000Z
DESCRIPTION:A segunda edição do Plug-In irá realizar-se no próximo
  dia 16 de janeiro nas instalações da Escola Superior de Media Artes
  e Design
LOCATION:Escola Superior de Media Artes e Design
URL:https://www.esmad.ipp.pt/noticias/plug-in-1
CLASS:PUBLIC
END:VEVENT
END:VCALENDAR
