BEGIN:VCALENDAR
PRODID:-//AT Content Types//AT Event//EN
VERSION:2.0
METHOD:PUBLISH
BEGIN:VEVENT
DTSTAMP:20260424T151228Z
CREATED:20181121T165001Z
UID:ATEvent-3149583561c54307a23562c0af3d1b68
LAST-MODIFIED:20181121T165049Z
SUMMARY:Reencontros21: Palestras ESMAE
DTSTART:20181203T110000Z
DTEND:20181203T162000Z
DESCRIPTION:A ESMAE\, escola de Artes do Politécnico do Porto\, organ
 iza\, no âmbito do programa Reencontros 21\, o primeiro ciclo de pale
 stras\, a decorrer no dia 3 de dezembro
LOCATION:Teatro Helena Sá e Costa
CLASS:PUBLIC
END:VEVENT
END:VCALENDAR
