BEGIN:VCALENDAR
PRODID:-//AT Content Types//AT Event//EN
VERSION:1.0
BEGIN:VEVENT
DTSTART:20181221T173000Z
DTEND:20181221T193000Z
DCREATED:20181218T161049Z
UID:ATEvent-3d44f662bf384a27aa5f0f2f333ec8a4
SEQUENCE:0
LAST-MODIFIED:20181218T161805Z
SUMMARY:O Dia Mais Curto
DESCRIPTION:Nove curtas-metragens de nove docentes dos departamentos d
 e Artes da Imagem e de Multimédia para celebrar o cinema na chegada d
 o solstício de inverno
LOCATION:Escola Superior de Media Artes e Design
PRIORITY:3
TRANSP:0
END:VEVENT
END:VCALENDAR
