BEGIN:VCALENDAR
PRODID:-//AT Content Types//AT Event//EN
VERSION:1.0
BEGIN:VEVENT
DTSTART:20181229T160000Z
DTEND:20190103T163000Z
DCREATED:20181218T161055Z
UID:ATEvent-a5b4dc27228047d194ce0bf499fb45b1
SEQUENCE:0
LAST-MODIFIED:20181218T161541Z
SUMMARY:Narrativas do Quotidiano
DESCRIPTION:No âmbito da Unidade Curricular de Ilustração\, o 3.º 
 ano de Artes Visuais e Tecnologias Artísticas apresenta na Galeria El
 evador o trabalho desenvolvido
LOCATION:Escola Superior de Educação
PRIORITY:3
TRANSP:0
END:VEVENT
END:VCALENDAR
