BEGIN:VCALENDAR
PRODID:-//AT Content Types//AT Event//EN
VERSION:2.0
METHOD:PUBLISH
BEGIN:VEVENT
DTSTAMP:20260424T183416Z
CREATED:20190626T124858Z
UID:ATEvent-af7689ab9718482c9a1f82dc503535fd
LAST-MODIFIED:20190711T155312Z
SUMMARY:MAD Summer School
DTSTART:20190710T110000Z
DTEND:20190720T110000Z
DESCRIPTION:A summer school da ESMAD\, escola de Media e Design do P.P
 ORTO\, regressa para a segunda edição entre 10 e 20 de julho
LOCATION:Vila do Conde e Póvoa de Varzim
CLASS:PUBLIC
END:VEVENT
END:VCALENDAR
