BEGIN:VCALENDAR
PRODID:-//AT Content Types//AT Event//EN
VERSION:1.0
BEGIN:VEVENT
DTSTART:20181123T084500Z
DTEND:20181124T130000Z
DCREATED:20181019T111311Z
UID:ATEvent-d5899263321c40859d29fc91d98948f5
SEQUENCE:0
LAST-MODIFIED:20181019T170358Z
SUMMARY:Jornadas de Mobilidade Elétrica
DESCRIPTION:Este evento do ISEP\, escola de Engenharia do P.PORTO\, de
 stina-se a docentes e estudantes do ensino superior\, profissionais do
  ramo automóvel\, potenciais utilizadores de automóveis elétricos e
  público em geral
LOCATION:Instituto Superior de Engenharia do Porto
PRIORITY:3
TRANSP:0
END:VEVENT
END:VCALENDAR
