BEGIN:VCALENDAR
PRODID:-//AT Content Types//AT Event//EN
VERSION:1.0
BEGIN:VEVENT
DTSTART:20181016T170000Z
DTEND:20181031T220000Z
DCREATED:20180914T153408Z
UID:ATEvent-ca955e71dbd74072ac10e50d0bf74e24
SEQUENCE:0
LAST-MODIFIED:20180914T154236Z
SUMMARY:IT Recruitment
DESCRIPTION:Pedro Caramez\, conhecido especialista no LinkedIn\, e Alb
 erto Peixoto Pinto\, docente do ISEP\, são os formadores responsávei
 s
LOCATION:Instituto Superior de Engenharia do Porto
PRIORITY:3
TRANSP:0
END:VEVENT
END:VCALENDAR
