BEGIN:VCALENDAR
PRODID:-//AT Content Types//AT Event//EN
VERSION:2.0
METHOD:PUBLISH
BEGIN:VEVENT
DTSTAMP:20260424T220515Z
CREATED:20180525T121402Z
UID:ATEvent-a116eb75934b4c398b1511581f4b0310
LAST-MODIFIED:20180525T121412Z
SUMMARY:III Jornadas de Emprego e Engenharia do ISEP
DTSTART:20180604T100000Z
DTEND:20180606T173000Z
DESCRIPTION:Esta é a terceira edição deste evento organizado pela A
 ssociação de Estudantes da escola de Engenharia do Politécnico do P
 orto.
LOCATION:Instituto Superior de Engenharia do Porto
URL:http://jee.aeisep.pt/
CLASS:PUBLIC
END:VEVENT
END:VCALENDAR
