BEGIN:VCALENDAR
PRODID:-//AT Content Types//AT Event//EN
VERSION:2.0
METHOD:PUBLISH
BEGIN:VEVENT
DTSTAMP:20260426T033903Z
CREATED:20180628T181109Z
UID:ATEvent-5056739d4b1d45759e15f75cc3f95e71
LAST-MODIFIED:20180628T181333Z
SUMMARY:ESHT Summer School
DTSTART:20180716T110000Z
DTEND:20180727T110000Z
DESCRIPTION:A iniciativa decorre de 16 a 27 de julho na escola de Hote
 laria e Turismo do Politécnico do Porto
LOCATION:Escola Superior de Hotelaria e Turismo
CLASS:PUBLIC
END:VEVENT
END:VCALENDAR
