BEGIN:VCALENDAR
PRODID:-//AT Content Types//AT Event//EN
VERSION:2.0
METHOD:PUBLISH
BEGIN:VEVENT
DTSTAMP:20260424T140657Z
CREATED:20190607T144423Z
UID:ATEvent-a9fedd0ac4c34d80ad75bea1fd96ef55
LAST-MODIFIED:20190607T144750Z
SUMMARY:Escola de Verão TCeurope
DTSTART:20190708T080000Z
DTEND:20190711T170000Z
DESCRIPTION:Uma oportunidade única de aprendizagem na área de Comuni
 cação Técnica
LOCATION:Instituto Superior de Contabilidade e Administração do Porto
CLASS:PUBLIC
END:VEVENT
END:VCALENDAR
