BEGIN:VCALENDAR
PRODID:-//AT Content Types//AT Event//EN
VERSION:2.0
METHOD:PUBLISH
BEGIN:VEVENT
DTSTAMP:20260424T155439Z
CREATED:20190828T155737Z
UID:ATEvent-e11bea0518494d5fbebad694e0506336
LAST-MODIFIED:20190828T161310Z
SUMMARY:Encontro Internacional de Reflexão sobre Práticas Artísticas Comunitárias
DTSTART:20190916T110000Z
DTEND:20190918T110000Z
DESCRIPTION:A Escola Superior de Música e Artes do Espetáculo do P.P
 ORTO é uma das instituições parceiras\, a par das universidades de 
 Évora\, Porto\, Lusófona\, Católica\, Nova e Politécnico de Lisboa
 
LOCATION:Porto
CLASS:PUBLIC
END:VEVENT
END:VCALENDAR
