BEGIN:VCALENDAR
PRODID:-//AT Content Types//AT Event//EN
VERSION:1.0
BEGIN:VEVENT
DTSTART:20190510T083000Z
DTEND:20190525T170000Z
DCREATED:20190513T102526Z
UID:ATEvent-d74f325426e2491590a71926056558a8
SEQUENCE:0
LAST-MODIFIED:20190513T102531Z
SUMMARY:Despidos de Contexto
DESCRIPTION:Até ao dia 25 de maio fica patente na Cooperativa Árvore
 \, no Porto\, esta exposição de figurinos da ESMAE\, escola de Artes
  do P.PORTO
LOCATION:Cooperativa Árvore
PRIORITY:3
TRANSP:0
END:VEVENT
END:VCALENDAR
