BEGIN:VCALENDAR
PRODID:-//AT Content Types//AT Event//EN
VERSION:2.0
METHOD:PUBLISH
BEGIN:VEVENT
DTSTAMP:20260425T155018Z
CREATED:20180611T164648Z
UID:ATEvent-b69b92b597434aaaa5a5c9169de7abfe
LAST-MODIFIED:20180611T164932Z
SUMMARY:Checkpoint
DTSTART:20180620T110000Z
DTEND:20180620T110000Z
DESCRIPTION:Esta Ã© a segunda ediÃ§Ã£o deste evento organizado pelos e
 studantes de TeSP da Escola Superior de Media Artes e Design do PolitÃ
 ©cnico do Porto
LOCATION:Escola Superior de Media Artes e Design
URL:https://www.esmad.ipp.pt/noticias/checkpoint
CLASS:PUBLIC
END:VEVENT
END:VCALENDAR
