BEGIN:VCALENDAR
PRODID:-//AT Content Types//AT Event//EN
VERSION:1.0
BEGIN:VEVENT
DTSTART:20180626T083000Z
DTEND:20180626T113000Z
DCREATED:20180611T164400Z
UID:ATEvent-200d01dbe3f94a58bf8ad3f3f5a1a336
SEQUENCE:0
LAST-MODIFIED:20180611T164929Z
SUMMARY:Barrie Gordon na ESE
DESCRIPTION:Sessão teórico-prática sobre a promoção da responsabi
 lidade pessoal e social através da Educação Física
LOCATION:Escola Superior de Educação
PRIORITY:3
TRANSP:0
END:VEVENT
END:VCALENDAR
