BEGIN:VCALENDAR
PRODID:-//AT Content Types//AT Event//EN
VERSION:1.0
BEGIN:VEVENT
DTSTART:20190424T110000Z
DTEND:20190424T110000Z
DCREATED:20190408T162731Z
UID:ATEvent-1f2014082660416e827777c963dbfb51
SEQUENCE:0
LAST-MODIFIED:20190408T162736Z
SUMMARY:As mãos também falam!
DESCRIPTION:O grupo de intérpretes do Politécnico do Porto realiza u
 m workshop sobre Língua Gestual Portuguesa no dia 24 de abril
LOCATION:Escola Superior de Hotelaria e Turismo
PRIORITY:3
TRANSP:0
END:VEVENT
END:VCALENDAR
