BEGIN:VCALENDAR
PRODID:-//AT Content Types//AT Event//EN
VERSION:1.0
BEGIN:VEVENT
DTSTART:20190904T110000Z
DTEND:20190907T110000Z
DCREATED:20190710T153423Z
UID:ATEvent-b09de33db5f141288d8a7ec0c032ad8f
SEQUENCE:0
LAST-MODIFIED:20190711T155642Z
SUMMARY:30.º Congreso Internacional ASELE
DESCRIPTION:O congresso anual da Asociación para la Enseñanza del Es
 pañol como Lengua Extranjera (ASELE) é organizado pela ESE\, escola 
 de educação do P.PORTO
LOCATION:Instituto Superior de Engenharia do Porto
PRIORITY:3
TRANSP:0
END:VEVENT
END:VCALENDAR
